BEGIN:VCALENDAR
VERSION:2.0
PRODID:-//Lend A Hand - ECPv6.15.20//NONSGML v1.0//EN
CALSCALE:GREGORIAN
METHOD:PUBLISH
X-WR-CALNAME:Lend A Hand
X-ORIGINAL-URL:https://lendahand.net
X-WR-CALDESC:Events for Lend A Hand
REFRESH-INTERVAL;VALUE=DURATION:PT1H
X-Robots-Tag:noindex
X-PUBLISHED-TTL:PT1H
BEGIN:VTIMEZONE
TZID:America/New_York
BEGIN:DAYLIGHT
TZOFFSETFROM:-0500
TZOFFSETTO:-0400
TZNAME:EDT
DTSTART:20170312T070000
END:DAYLIGHT
BEGIN:STANDARD
TZOFFSETFROM:-0400
TZOFFSETTO:-0500
TZNAME:EST
DTSTART:20171105T060000
END:STANDARD
BEGIN:DAYLIGHT
TZOFFSETFROM:-0500
TZOFFSETTO:-0400
TZNAME:EDT
DTSTART:20180311T070000
END:DAYLIGHT
BEGIN:STANDARD
TZOFFSETFROM:-0400
TZOFFSETTO:-0500
TZNAME:EST
DTSTART:20181104T060000
END:STANDARD
BEGIN:DAYLIGHT
TZOFFSETFROM:-0500
TZOFFSETTO:-0400
TZNAME:EDT
DTSTART:20190310T070000
END:DAYLIGHT
BEGIN:STANDARD
TZOFFSETFROM:-0400
TZOFFSETTO:-0500
TZNAME:EST
DTSTART:20191103T060000
END:STANDARD
BEGIN:DAYLIGHT
TZOFFSETFROM:-0500
TZOFFSETTO:-0400
TZNAME:EDT
DTSTART:20200308T070000
END:DAYLIGHT
BEGIN:STANDARD
TZOFFSETFROM:-0400
TZOFFSETTO:-0500
TZNAME:EST
DTSTART:20201101T060000
END:STANDARD
END:VTIMEZONE
BEGIN:VEVENT
DTSTART;TZID=America/New_York:20190108T080000
DTEND;TZID=America/New_York:20190108T170000
DTSTAMP:20260419T114900
CREATED:20190108T160709Z
LAST-MODIFIED:20191204T141816Z
UID:691-1546934400-1546966800@lendahand.net
SUMMARY:Scheduled trips Jan.-May\, 2020
DESCRIPTION:We have the following trips scheduled for 2020 \n  \nJan. 19-25\, 2020 Tarboro \nMarch 15-21\, 2020 – Tarboro \nApril13-19\, 2020 Tarboro \nMay 11-17\, 2020 Tarboro
URL:https://lendahand.net/event/scheduled-trips-jan-may-2019/
END:VEVENT
BEGIN:VEVENT
DTSTART;VALUE=DATE:20180520
DTEND;VALUE=DATE:20180527
DTSTAMP:20260419T114900
CREATED:20180408T040021Z
LAST-MODIFIED:20180625T133503Z
UID:637-1526774400-1527379199@lendahand.net
SUMMARY:Fall Schedule
DESCRIPTION:August 19-25  Tarboro\, N.C. \n  \nSeptember 23-29 Tarboro\, N.C.
URL:https://lendahand.net/event/fall-trip/
END:VEVENT
BEGIN:VEVENT
DTSTART;VALUE=DATE:20180318
DTEND;VALUE=DATE:20180326
DTSTAMP:20260419T114900
CREATED:20171128T155539Z
LAST-MODIFIED:20171128T155539Z
UID:623-1521331200-1522022399@lendahand.net
SUMMARY:Tarboro\, N.C.
DESCRIPTION:
URL:https://lendahand.net/event/tarboro-n-c/
END:VEVENT
END:VCALENDAR